BEGIN:VCALENDAR
VERSION:2.0
PRODID:-//AST Süßen - ECPv6.15.13//NONSGML v1.0//EN
CALSCALE:GREGORIAN
METHOD:PUBLISH
X-WR-CALNAME:AST Süßen
X-ORIGINAL-URL:https://www.ast-suessen.de
X-WR-CALDESC:Veranstaltungen für AST Süßen
REFRESH-INTERVAL;VALUE=DURATION:PT1H
X-Robots-Tag:noindex
X-PUBLISHED-TTL:PT1H
BEGIN:VTIMEZONE
TZID:Europe/Berlin
BEGIN:DAYLIGHT
TZOFFSETFROM:+0100
TZOFFSETTO:+0200
TZNAME:CEST
DTSTART:20180325T010000
END:DAYLIGHT
BEGIN:STANDARD
TZOFFSETFROM:+0200
TZOFFSETTO:+0100
TZNAME:CET
DTSTART:20181028T010000
END:STANDARD
BEGIN:DAYLIGHT
TZOFFSETFROM:+0100
TZOFFSETTO:+0200
TZNAME:CEST
DTSTART:20190331T010000
END:DAYLIGHT
BEGIN:STANDARD
TZOFFSETFROM:+0200
TZOFFSETTO:+0100
TZNAME:CET
DTSTART:20191027T010000
END:STANDARD
BEGIN:DAYLIGHT
TZOFFSETFROM:+0100
TZOFFSETTO:+0200
TZNAME:CEST
DTSTART:20200329T010000
END:DAYLIGHT
BEGIN:STANDARD
TZOFFSETFROM:+0200
TZOFFSETTO:+0100
TZNAME:CET
DTSTART:20201025T010000
END:STANDARD
END:VTIMEZONE
BEGIN:VEVENT
DTSTART;TZID=Europe/Berlin:20191025T173000
DTEND;TZID=Europe/Berlin:20191025T190000
DTSTAMP:20260423T124319
CREATED:20191008T164756Z
LAST-MODIFIED:20191008T164756Z
UID:3757-1572024600-1572030000@www.ast-suessen.de
SUMMARY:Intervalltraining f. Steinheimer Geologenlauf
DESCRIPTION:Intervalltraining für den 30. Steinheimer Geologenlauf (3.11.2019) durch Uli Kielkopf um 17:30 Uhr am TSV Sportplatz in Süßen
URL:https://www.ast-suessen.de/veranstaltungen/intervalltraining-f-steinheimer-geologenlauf
LOCATION:TSV Sportplatz\, Jahnstraße 12\, Süßen\, 73079\, Deutschland
CATEGORIES:Lauftraining
END:VEVENT
BEGIN:VEVENT
DTSTART;TZID=Europe/Berlin:20191011T173000
DTEND;TZID=Europe/Berlin:20191011T190000
DTSTAMP:20260423T124319
CREATED:20191008T164603Z
LAST-MODIFIED:20191008T164603Z
UID:3753-1570815000-1570820400@www.ast-suessen.de
SUMMARY:Intervalltraining f. Salacher Löwenlauf
DESCRIPTION:Intervalltraining für den 1. Salacher Löwenlauf (20.10.2019) durch Uli Kielkopf um 17:30 Uhr am TSV Sportplatz in Süßen
URL:https://www.ast-suessen.de/veranstaltungen/intervalltraining-f-salacher-loewenlauf
LOCATION:TSV Sportplatz\, Jahnstraße 12\, Süßen\, 73079\, Deutschland
CATEGORIES:Lauftraining
END:VEVENT
END:VCALENDAR